BEGIN:VCALENDAR
VERSION:2.0
PRODID:-//Tukios.com/
BEGIN:VEVENT
UID:6e4107e6-da34-4920-920a-38f56989e64a@www.nicholsonfunerals.com
DTSTAMP:20260424T170813Z
DTSTART:20260426T200000Z
DTEND:20260426T210000Z
SUMMARY:Memorial Service
DESCRIPTION:
URL:https://www.nicholsonfunerals.com/obituaries/harold-dagenhart
LOCATION: 135 E. Front St.  Statesville NC 28677
GEO:35.7835059;-80.8860134
END:VEVENT
END:VCALENDAR